BEGIN:VCALENDAR
VERSION:2.0
PRODID:-//Area 74 - ECPv6.15.20//NONSGML v1.0//EN
CALSCALE:GREGORIAN
METHOD:PUBLISH
X-ORIGINAL-URL:https://area74.org
X-WR-CALDESC:Events for Area 74
REFRESH-INTERVAL;VALUE=DURATION:PT1H
X-Robots-Tag:noindex
X-PUBLISHED-TTL:PT1H
BEGIN:VTIMEZONE
TZID:UTC
BEGIN:STANDARD
TZOFFSETFROM:+0000
TZOFFSETTO:+0000
TZNAME:UTC
DTSTART:20240101T000000
END:STANDARD
END:VTIMEZONE
BEGIN:VEVENT
DTSTART;VALUE=DATE:20251212
DTEND;VALUE=DATE:20251215
DTSTAMP:20260423T113949
CREATED:20250726T142814Z
LAST-MODIFIED:20250726T142814Z
UID:25331-1765497600-1765756799@area74.org
SUMMARY:72nd Michigan State Convention
DESCRIPTION:2025 Michigan State Convention REGISTRATION FORM
URL:https://area74.org/event/72nd-michigan-state-convention/
END:VEVENT
BEGIN:VEVENT
DTSTART;VALUE=DATE:20251212
DTEND;VALUE=DATE:20251215
DTSTAMP:20260423T113949
CREATED:20251017T014320Z
LAST-MODIFIED:20251017T014320Z
UID:26697-1765497600-1765756799@area74.org
SUMMARY:2025 Michigan State Convention
DESCRIPTION:2025 Michigan State Convention REGISTRATION FORM
URL:https://area74.org/event/2025-michigan-state-convention/
END:VEVENT
END:VCALENDAR