BEGIN:VCALENDAR
VERSION:2.0
PRODID:-//Area 74 - ECPv6.15.20//NONSGML v1.0//EN
CALSCALE:GREGORIAN
METHOD:PUBLISH
X-ORIGINAL-URL:https://area74.org
X-WR-CALDESC:Events for Area 74
REFRESH-INTERVAL;VALUE=DURATION:PT1H
X-Robots-Tag:noindex
X-PUBLISHED-TTL:PT1H
BEGIN:VTIMEZONE
TZID:UTC
BEGIN:STANDARD
TZOFFSETFROM:+0000
TZOFFSETTO:+0000
TZNAME:UTC
DTSTART:20240101T000000
END:STANDARD
END:VTIMEZONE
BEGIN:VEVENT
DTSTART;VALUE=DATE:20250308
DTEND;VALUE=DATE:20250309
DTSTAMP:20260423T224331
CREATED:20241214T205339Z
LAST-MODIFIED:20250303T233111Z
UID:18767-1741392000-1741478399@area74.org
SUMMARY:Delegates Workshop
DESCRIPTION:
URL:https://area74.org/event/delegates-workshop-3/
LOCATION:Wausau\, WI\, St. Stephen Lutheran Curch\, Wausau\, WI\, United States
END:VEVENT
BEGIN:VEVENT
DTSTART;VALUE=DATE:20250316
DTEND;VALUE=DATE:20250317
DTSTAMP:20260423T224331
CREATED:20250123T040445Z
LAST-MODIFIED:20250127T021011Z
UID:20938-1742083200-1742169599@area74.org
SUMMARY:AA 2025 Hot Topics Panel Discussion
DESCRIPTION:
URL:https://area74.org/event/aa-75th-gsc-sharing-session/
END:VEVENT
BEGIN:VEVENT
DTSTART;VALUE=DATE:20250322
DTEND;VALUE=DATE:20250323
DTSTAMP:20260423T224331
CREATED:20250316T130900Z
LAST-MODIFIED:20250316T130900Z
UID:21320-1742601600-1742687999@area74.org
SUMMARY:WICYPAA Madison Host Event
DESCRIPTION:
URL:https://area74.org/event/wicypaa-madison-host-event/
LOCATION:East Side Alano Club\, 1017 Northport Dr\, Madison\, 53704\, United States
END:VEVENT
END:VCALENDAR