BEGIN:VCALENDAR
VERSION:2.0
PRODID:-//Area 74 - ECPv6.15.20//NONSGML v1.0//EN
CALSCALE:GREGORIAN
METHOD:PUBLISH
X-WR-CALNAME:Area 74
X-ORIGINAL-URL:https://area74.org
X-WR-CALDESC:Events for Area 74
REFRESH-INTERVAL;VALUE=DURATION:PT1H
X-Robots-Tag:noindex
X-PUBLISHED-TTL:PT1H
BEGIN:VTIMEZONE
TZID:UTC
BEGIN:STANDARD
TZOFFSETFROM:+0000
TZOFFSETTO:+0000
TZNAME:UTC
DTSTART:20210101T000000
END:STANDARD
END:VTIMEZONE
BEGIN:VEVENT
DTSTART;VALUE=DATE:20230210
DTEND;VALUE=DATE:20230213
DTSTAMP:20260423T234931
CREATED:20221203T164604Z
LAST-MODIFIED:20221203T164604Z
UID:4940-1675987200-1676246399@area74.org
SUMMARY:49th Annual East Central Region Conference of Delegates Past & Present
DESCRIPTION:2023-CDPP-Flyer-FINAL-Rev-10-23-2022
URL:https://area74.org/event/49th-annual-east-central-region-conference-of-delegates-past-present/
LOCATION:WI
END:VEVENT
BEGIN:VEVENT
DTSTART;TZID=UTC:20230209T080000
DTEND;TZID=UTC:20230209T170000
DTSTAMP:20260423T234931
CREATED:20230209T025007Z
LAST-MODIFIED:20230209T025007Z
UID:5368-1675929600-1675962000@area74.org
SUMMARY:2023 Indiana State Convention & East Central Regional Conference
DESCRIPTION:2023 Indiana State Convention-ECR flyer final
URL:https://area74.org/event/2023-indiana-state-convention-east-central-regional-conference/
LOCATION:WI
END:VEVENT
BEGIN:VEVENT
DTSTART;VALUE=DATE:20230106
DTEND;VALUE=DATE:20230109
DTSTAMP:20260423T234931
CREATED:20221129T034815Z
LAST-MODIFIED:20221129T034815Z
UID:4923-1672963200-1673222399@area74.org
SUMMARY:WICYPAA XXX
DESCRIPTION:
URL:https://area74.org/event/wicypaa-xxx/
LOCATION:WI
END:VEVENT
BEGIN:VEVENT
DTSTART;VALUE=DATE:20221216
DTEND;VALUE=DATE:20221219
DTSTAMP:20260423T234931
CREATED:20221203T164358Z
LAST-MODIFIED:20221203T164358Z
UID:4938-1671148800-1671407999@area74.org
SUMMARY:69th Annual Michigan State Convention
DESCRIPTION:2022-MI-State-Convention
URL:https://area74.org/event/69th-annual-michigan-state-convention/
LOCATION:WI
END:VEVENT
BEGIN:VEVENT
DTSTART;VALUE=DATE:20221210
DTEND;VALUE=DATE:20221211
DTSTAMP:20260423T234931
CREATED:20221129T034536Z
LAST-MODIFIED:20221129T034536Z
UID:4920-1670630400-1670716799@area74.org
SUMMARY:Area Committee Meeting
DESCRIPTION:
URL:https://area74.org/event/area-committee-meeting/
LOCATION:WI
END:VEVENT
END:VCALENDAR