BEGIN:VCALENDAR
VERSION:2.0
PRODID:-//Area 74 - ECPv6.15.20//NONSGML v1.0//EN
CALSCALE:GREGORIAN
METHOD:PUBLISH
X-WR-CALNAME:Area 74
X-ORIGINAL-URL:https://area74.org
X-WR-CALDESC:Events for Area 74
REFRESH-INTERVAL;VALUE=DURATION:PT1H
X-Robots-Tag:noindex
X-PUBLISHED-TTL:PT1H
BEGIN:VTIMEZONE
TZID:UTC
BEGIN:STANDARD
TZOFFSETFROM:+0000
TZOFFSETTO:+0000
TZNAME:UTC
DTSTART:20220101T000000
END:STANDARD
END:VTIMEZONE
BEGIN:VTIMEZONE
TZID:America/Chicago
BEGIN:DAYLIGHT
TZOFFSETFROM:-0600
TZOFFSETTO:-0500
TZNAME:CDT
DTSTART:20220313T080000
END:DAYLIGHT
BEGIN:STANDARD
TZOFFSETFROM:-0500
TZOFFSETTO:-0600
TZNAME:CST
DTSTART:20221106T070000
END:STANDARD
BEGIN:DAYLIGHT
TZOFFSETFROM:-0600
TZOFFSETTO:-0500
TZNAME:CDT
DTSTART:20230312T080000
END:DAYLIGHT
BEGIN:STANDARD
TZOFFSETFROM:-0500
TZOFFSETTO:-0600
TZNAME:CST
DTSTART:20231105T070000
END:STANDARD
BEGIN:DAYLIGHT
TZOFFSETFROM:-0600
TZOFFSETTO:-0500
TZNAME:CDT
DTSTART:20240310T080000
END:DAYLIGHT
BEGIN:STANDARD
TZOFFSETFROM:-0500
TZOFFSETTO:-0600
TZNAME:CST
DTSTART:20241103T070000
END:STANDARD
END:VTIMEZONE
BEGIN:VEVENT
DTSTART;VALUE=DATE:20240302
DTEND;VALUE=DATE:20240303
DTSTAMP:20260423T234249
CREATED:20231210T011422Z
LAST-MODIFIED:20231210T011422Z
UID:8338-1709337600-1709423999@area74.org
SUMMARY:Area Committee Meeting
DESCRIPTION:
URL:https://area74.org/event/area-committee-meeting-4/
LOCATION:Wausau\, WI\, St. Stephen Lutheran Curch\, Wausau\, WI\, United States
END:VEVENT
BEGIN:VEVENT
DTSTART;VALUE=DATE:20240302
DTEND;VALUE=DATE:20240303
DTSTAMP:20260423T234249
CREATED:20231210T011358Z
LAST-MODIFIED:20231210T011358Z
UID:8335-1709337600-1709423999@area74.org
SUMMARY:Delegates Workshop
DESCRIPTION:
URL:https://area74.org/event/delegates-workshop-2/
LOCATION:Wausau\, WI\, St. Stephen Lutheran Curch\, Wausau\, WI\, United States
END:VEVENT
BEGIN:VEVENT
DTSTART;TZID=UTC:20240218T120000
DTEND;TZID=UTC:20240218T150000
DTSTAMP:20260423T234249
CREATED:20240119T040111Z
LAST-MODIFIED:20240119T040111Z
UID:8376-1708257600-1708268400@area74.org
SUMMARY:Chili Cook Off
DESCRIPTION:Chili Cook Off
URL:https://area74.org/event/chili-cook-off/
LOCATION:2617 Club 1578 Strongs Ave Stevens Point\, WI\, 2617 Club 1578 Strongs Ave\, Stevens Point\, WI\, United States
END:VEVENT
BEGIN:VEVENT
DTSTART;VALUE=DATE:20240209
DTEND;VALUE=DATE:20240212
DTSTAMP:20260423T234249
CREATED:20231210T011219Z
LAST-MODIFIED:20231224T193344Z
UID:8333-1707436800-1707695999@area74.org
SUMMARY:Conference of Delegates Past and Present (CDPP) Area 22 - Muncle\, IN
DESCRIPTION:2024_CDPP_UPdated_12_12_Final_Final
URL:https://area74.org/event/conference-of-delegates-past-and-present-cdpp-area-22-muncle-in/
END:VEVENT
BEGIN:VEVENT
DTSTART;VALUE=DATE:20240112
DTEND;VALUE=DATE:20240115
DTSTAMP:20260423T234249
CREATED:20231210T011110Z
LAST-MODIFIED:20231210T011110Z
UID:8330-1705017600-1705276799@area74.org
SUMMARY:Wisconsin Conference of Young People in AA
DESCRIPTION:
URL:https://area74.org/event/wisconsin-conference-of-young-people-in-aa/
END:VEVENT
BEGIN:VEVENT
DTSTART;VALUE=DATE:20231216
DTEND;VALUE=DATE:20231217
DTSTAMP:20260423T234249
CREATED:20221203T171433Z
LAST-MODIFIED:20221203T171433Z
UID:4975-1702684800-1702771199@area74.org
SUMMARY:Area Committee Meeting
DESCRIPTION:(Optional) Virtual
URL:https://area74.org/event/area-committee-meeting-3/
END:VEVENT
BEGIN:VEVENT
DTSTART;TZID=UTC:20231212T110000
DTEND;TZID=UTC:20231212T170000
DTSTAMP:20260423T234249
CREATED:20231020T192309Z
LAST-MODIFIED:20231020T192309Z
UID:8319-1702378800-1702400400@area74.org
SUMMARY:Sober for the Holiday Open House
DESCRIPTION:Sober For The Holidays - December
URL:https://area74.org/event/sober-for-the-holiday-open-house/
END:VEVENT
BEGIN:VEVENT
DTSTART;VALUE=DATE:20231117
DTEND;VALUE=DATE:20231120
DTSTAMP:20260423T234249
CREATED:20221203T171320Z
LAST-MODIFIED:20221203T171320Z
UID:4973-1700179200-1700438399@area74.org
SUMMARY:East Central Regional Forum
DESCRIPTION:East Central Regional Forum Independence\, OH
URL:https://area74.org/event/east-central-regional-forum/
END:VEVENT
BEGIN:VEVENT
DTSTART;TZID=UTC:20231114T110000
DTEND;TZID=UTC:20231114T170000
DTSTAMP:20260423T234249
CREATED:20231020T192144Z
LAST-MODIFIED:20231020T192144Z
UID:8316-1699959600-1699981200@area74.org
SUMMARY:Sober for the Holidays Open House
DESCRIPTION:Sober For The Holidays - November
URL:https://area74.org/event/sober-for-the-holidays-open-house/
END:VEVENT
BEGIN:VEVENT
DTSTART;VALUE=DATE:20231020
DTEND;VALUE=DATE:20231022
DTSTAMP:20260423T234249
CREATED:20230903T193921Z
LAST-MODIFIED:20230903T193921Z
UID:7943-1697760000-1697932799@area74.org
SUMMARY:40th Annual St. Cloud Roundup
DESCRIPTION:roundup-2023-v03
URL:https://area74.org/event/40th-annual-st-cloud-roundup/
END:VEVENT
BEGIN:VEVENT
DTSTART;VALUE=DATE:20231014
DTEND;VALUE=DATE:20231015
DTSTAMP:20260423T234249
CREATED:20221203T171201Z
LAST-MODIFIED:20221203T171201Z
UID:4970-1697241600-1697327999@area74.org
SUMMARY:Area 74 Election Assembly
DESCRIPTION:
URL:https://area74.org/event/area-74-election-assembly/
LOCATION:rhinelander\, Quality Inn\, Rhinelander\, WI\, United States
END:VEVENT
BEGIN:VEVENT
DTSTART;VALUE=DATE:20231006
DTEND;VALUE=DATE:20231009
DTSTAMP:20260423T234249
CREATED:20230408T144644Z
LAST-MODIFIED:20230408T144711Z
UID:5912-1696550400-1696809599@area74.org
SUMMARY:Recovery on the River Jamboree
DESCRIPTION:2023-Pre-Registration
URL:https://area74.org/event/recovery-on-the-river-jamboree/
END:VEVENT
BEGIN:VEVENT
DTSTART;VALUE=DATE:20230917
DTEND;VALUE=DATE:20230918
DTSTAMP:20260423T234249
CREATED:20221203T170950Z
LAST-MODIFIED:20230228T034603Z
UID:4968-1694908800-1694995199@area74.org
SUMMARY:Area 74 Committee Meeting
DESCRIPTION:
URL:https://area74.org/event/area-74-committee-meeting-2/
LOCATION:eau claire\, Eau Claire\, WI\, United States
END:VEVENT
BEGIN:VEVENT
DTSTART;VALUE=DATE:20230916
DTEND;VALUE=DATE:20230917
DTSTAMP:20260423T234249
CREATED:20221203T170845Z
LAST-MODIFIED:20230228T034516Z
UID:4966-1694822400-1694908799@area74.org
SUMMARY:Area 74 Area Assembly
DESCRIPTION:
URL:https://area74.org/event/area-74-area-assembly/
LOCATION:eau claire\, Eau Claire\, WI\, United States
END:VEVENT
BEGIN:VEVENT
DTSTART;VALUE=DATE:20230915
DTEND;VALUE=DATE:20230918
DTSTAMP:20260423T234249
CREATED:20221203T170750Z
LAST-MODIFIED:20230618T180929Z
UID:4963-1694736000-1694995199@area74.org
SUMMARY:Area 74 Fall Conference
DESCRIPTION:Final Flyer2023
URL:https://area74.org/event/area-74-fall-conference/
LOCATION:eau claire\, Eau Claire\, WI\, United States
END:VEVENT
BEGIN:VEVENT
DTSTART;VALUE=DATE:20230811
DTEND;VALUE=DATE:20230814
DTSTAMP:20260423T234249
CREATED:20230407T025708Z
LAST-MODIFIED:20230407T025708Z
UID:5909-1691712000-1691971199@area74.org
SUMMARY:Michigan State Convention
DESCRIPTION:2023_MIStateConvention_02.04.2023
URL:https://area74.org/event/michigan-state-convention/
END:VEVENT
BEGIN:VEVENT
DTSTART;VALUE=DATE:20230805
DTEND;VALUE=DATE:20230806
DTSTAMP:20260423T234249
CREATED:20221203T170631Z
LAST-MODIFIED:20221203T170631Z
UID:4961-1691193600-1691279999@area74.org
SUMMARY:Area Committee Meeting (Optional)
DESCRIPTION:
URL:https://area74.org/event/area-committee-meeting-optional/
LOCATION:Reiter Center\, 1858 S Michigan\, Three Lakes\, WI\, 54562\, United States
END:VEVENT
BEGIN:VEVENT
DTSTART;TZID=America/Chicago:20230715T110000
DTEND;TZID=America/Chicago:20230715T150000
DTSTAMP:20260423T234249
CREATED:20230428T021018Z
LAST-MODIFIED:20230428T021018Z
UID:6061-1689418800-1689433200@area74.org
SUMMARY:District 6 Third Annual Picnic
DESCRIPTION:picnic
URL:https://area74.org/event/district-6-third-annual-picnic/
END:VEVENT
BEGIN:VEVENT
DTSTART;VALUE=DATE:20230715
DTEND;VALUE=DATE:20230717
DTSTAMP:20260423T234249
CREATED:20230627T213528Z
LAST-MODIFIED:20230627T213528Z
UID:6835-1689379200-1689551999@area74.org
SUMMARY:What is AA According to the Big Book?
DESCRIPTION:
URL:https://area74.org/event/what-is-aa-according-to-the-big-book/
END:VEVENT
BEGIN:VEVENT
DTSTART;VALUE=DATE:20230623
DTEND;VALUE=DATE:20230626
DTSTAMP:20260423T234249
CREATED:20221203T170540Z
LAST-MODIFIED:20221203T170540Z
UID:4959-1687478400-1687737599@area74.org
SUMMARY:East Central Regional Conference
DESCRIPTION:East Central Regional Conference /Indiana State Convention
URL:https://area74.org/event/east-central-regional-conference/
END:VEVENT
BEGIN:VEVENT
DTSTART;VALUE=DATE:20230521
DTEND;VALUE=DATE:20230522
DTSTAMP:20260423T234249
CREATED:20221203T170424Z
LAST-MODIFIED:20221203T170424Z
UID:4957-1684627200-1684713599@area74.org
SUMMARY:Area 74 Committee Meeting
DESCRIPTION:
URL:https://area74.org/event/area-74-committee-meeting/
LOCATION:Green Bay\, WI\, Green Bay\, WI\, United States
END:VEVENT
BEGIN:VEVENT
DTSTART;VALUE=DATE:20230520
DTEND;VALUE=DATE:20230521
DTSTAMP:20260423T234249
CREATED:20221203T170342Z
LAST-MODIFIED:20221203T170342Z
UID:4955-1684540800-1684627199@area74.org
SUMMARY:Area 74 Assembly
DESCRIPTION:
URL:https://area74.org/event/area-74-assembly/
LOCATION:Green Bay\, WI\, Green Bay\, WI\, United States
END:VEVENT
BEGIN:VEVENT
DTSTART;VALUE=DATE:20230519
DTEND;VALUE=DATE:20230522
DTSTAMP:20260423T234249
CREATED:20221129T034950Z
LAST-MODIFIED:20221203T171746Z
UID:4925-1684454400-1684713599@area74.org
SUMMARY:Area 74 2023 Spring Conference
DESCRIPTION:Delegate’s Report 73rd GSC Spring Conf District 01 Green Bay\, WI \n\n\n\n\n\n23sc
URL:https://area74.org/event/area-74-spring-conference/
LOCATION:Green Bay\, WI\, Green Bay\, WI\, United States
END:VEVENT
BEGIN:VEVENT
DTSTART;TZID=America/Chicago:20230423T130000
DTEND;TZID=America/Chicago:20230423T140000
DTSTAMP:20260423T234249
CREATED:20230407T025542Z
LAST-MODIFIED:20230407T025542Z
UID:5906-1682254800-1682258400@area74.org
SUMMARY:Spring Fling - Madison WICYPAA Bid
DESCRIPTION:
URL:https://area74.org/event/spring-fling-madison-wicypaa-bid/
END:VEVENT
BEGIN:VEVENT
DTSTART;VALUE=DATE:20230423
DTEND;VALUE=DATE:20230430
DTSTAMP:20260423T234249
CREATED:20221203T170055Z
LAST-MODIFIED:20221203T170055Z
UID:4950-1682208000-1682812799@area74.org
SUMMARY:General Service Conference
DESCRIPTION:73rd General Service Conference NY\, NY
URL:https://area74.org/event/general-service-conference/
END:VEVENT
BEGIN:VEVENT
DTSTART;VALUE=DATE:20230421
DTEND;VALUE=DATE:20230424
DTSTAMP:20260423T234249
CREATED:20230227T024534Z
LAST-MODIFIED:20230227T024534Z
UID:5561-1682035200-1682294399@area74.org
SUMMARY:76th Superior Roundup
DESCRIPTION:cid_AB55398A-987C-45ED-A0A3-1A761EBD7258
URL:https://area74.org/event/76th-superior-roundup/
END:VEVENT
BEGIN:VEVENT
DTSTART;VALUE=DATE:20230415
DTEND;VALUE=DATE:20230416
DTSTAMP:20260423T234249
CREATED:20230129T022744Z
LAST-MODIFIED:20230129T022744Z
UID:5330-1681516800-1681603199@area74.org
SUMMARY:Eleva Step Group Annual Western WI. Traveling Potluck & Open Speaker Meeting
DESCRIPTION:Eleva 2023 Potluck
URL:https://area74.org/event/eleva-step-group-annual-western-wi-traveling-potluck-open-speaker-meeting/
END:VEVENT
BEGIN:VEVENT
DTSTART;VALUE=DATE:20230408
DTEND;VALUE=DATE:20230409
DTSTAMP:20260423T234249
CREATED:20221203T165944Z
LAST-MODIFIED:20221203T165944Z
UID:4948-1680912000-1680998399@area74.org
SUMMARY:Winter Assembly
DESCRIPTION:
URL:https://area74.org/event/winter-assembly/
LOCATION:Reiter Center\, 1858 S Michigan\, Three Lakes\, WI\, 54562\, United States
END:VEVENT
BEGIN:VEVENT
DTSTART;VALUE=DATE:20230318
DTEND;VALUE=DATE:20230319
DTSTAMP:20260423T234249
CREATED:20230208T033328Z
LAST-MODIFIED:20230208T033328Z
UID:5364-1679097600-1679183999@area74.org
SUMMARY:Western Wisconsin Traveling Open Speaker Meeting
DESCRIPTION:2023 Intergroup Flyer 2
URL:https://area74.org/event/western-wisconsin-traveling-open-speaker-meeting/
END:VEVENT
BEGIN:VEVENT
DTSTART;VALUE=DATE:20230311
DTEND;VALUE=DATE:20230312
DTSTAMP:20260423T234249
CREATED:20221203T165842Z
LAST-MODIFIED:20221203T165842Z
UID:4945-1678492800-1678579199@area74.org
SUMMARY:Area Committee Meeting
DESCRIPTION:
URL:https://area74.org/event/area-committee-meeting-2/
LOCATION:Reiter Center\, 1858 S Michigan\, Three Lakes\, WI\, 54562\, United States
END:VEVENT
END:VCALENDAR