BEGIN:VCALENDAR
VERSION:2.0
PRODID:-//Area 74 - ECPv6.15.20//NONSGML v1.0//EN
CALSCALE:GREGORIAN
METHOD:PUBLISH
X-ORIGINAL-URL:https://area74.org
X-WR-CALDESC:Events for Area 74
REFRESH-INTERVAL;VALUE=DURATION:PT1H
X-Robots-Tag:noindex
X-PUBLISHED-TTL:PT1H
BEGIN:VTIMEZONE
TZID:UTC
BEGIN:STANDARD
TZOFFSETFROM:+0000
TZOFFSETTO:+0000
TZNAME:UTC
DTSTART:20250101T000000
END:STANDARD
END:VTIMEZONE
BEGIN:VEVENT
DTSTART;VALUE=DATE:20260213
DTEND;VALUE=DATE:20260216
DTSTAMP:20260423T115637
CREATED:20251017T014820Z
LAST-MODIFIED:20251017T014820Z
UID:26703-1770940800-1771199999@area74.org
SUMMARY:East Central Regional Conference of Delegates Past and Present
DESCRIPTION:
URL:https://area74.org/event/east-central-regional-conference-of-delegates-past-and-present/
END:VEVENT
BEGIN:VEVENT
DTSTART;VALUE=DATE:20260213
DTEND;VALUE=DATE:20260217
DTSTAMP:20260423T115637
CREATED:20250801T142539Z
LAST-MODIFIED:20250801T142539Z
UID:25345-1770940800-1771286399@area74.org
SUMMARY:Conference Delegates Past & Present
DESCRIPTION:26-02-52CDPP-Flyer-Registration-FINAL5-5
URL:https://area74.org/event/conference-delegates-past-present/
END:VEVENT
BEGIN:VEVENT
DTSTART;VALUE=DATE:20260328
DTEND;VALUE=DATE:20260329
DTSTAMP:20260423T115637
CREATED:20251017T014848Z
LAST-MODIFIED:20260308T201222Z
UID:26705-1774656000-1774742399@area74.org
SUMMARY:Area 74 Delegates Workshop
DESCRIPTION:flyer Delegatesworkshop 2026Workshop
URL:https://area74.org/event/area-74-delegates-workshop/
LOCATION:Reiter Center\, 1858 S Michigan\, Three Lakes\, WI\, 54562\, United States
END:VEVENT
BEGIN:VEVENT
DTSTART;VALUE=DATE:20260417
DTEND;VALUE=DATE:20260418
DTSTAMP:20260423T115637
CREATED:20251017T014933Z
LAST-MODIFIED:20251017T014933Z
UID:26707-1776384000-1776470399@area74.org
SUMMARY:Standing Committees Workshops
DESCRIPTION:
URL:https://area74.org/event/standing-committees-workshops/
LOCATION:rhinelander\, Quality Inn\, Rhinelander\, WI\, United States
END:VEVENT
BEGIN:VEVENT
DTSTART;VALUE=DATE:20260418
DTEND;VALUE=DATE:20260419
DTSTAMP:20260423T115637
CREATED:20251017T015001Z
LAST-MODIFIED:20251017T015001Z
UID:26709-1776470400-1776556799@area74.org
SUMMARY:Area 74 Assembly
DESCRIPTION:
URL:https://area74.org/event/area-74-assembly-3/
LOCATION:rhinelander\, Quality Inn\, Rhinelander\, WI\, United States
END:VEVENT
BEGIN:VEVENT
DTSTART;VALUE=DATE:20260426
DTEND;VALUE=DATE:20260503
DTSTAMP:20260423T115637
CREATED:20251017T015033Z
LAST-MODIFIED:20251017T015033Z
UID:26711-1777161600-1777766399@area74.org
SUMMARY:General Service Conferencce
DESCRIPTION:
URL:https://area74.org/event/general-service-conferencce/
END:VEVENT
BEGIN:VEVENT
DTSTART;VALUE=DATE:20260626
DTEND;VALUE=DATE:20260629
DTSTAMP:20260423T115637
CREATED:20260120T002131Z
LAST-MODIFIED:20260120T002131Z
UID:27300-1782432000-1782691199@area74.org
SUMMARY:2026 ECR and Area 74 Conference
DESCRIPTION:2026ecrarea74conference 08.20.25
URL:https://area74.org/event/2026-ecr-and-area-74-conference/
END:VEVENT
BEGIN:VEVENT
DTSTART;VALUE=DATE:20260718
DTEND;VALUE=DATE:20260719
DTSTAMP:20260423T115637
CREATED:20251017T015112Z
LAST-MODIFIED:20251017T015112Z
UID:26713-1784332800-1784419199@area74.org
SUMMARY:Area 74 ACM
DESCRIPTION:
URL:https://area74.org/event/area-74-acm/
LOCATION:Reiter Center\, 1858 S Michigan\, Three Lakes\, WI\, 54562\, United States
END:VEVENT
BEGIN:VEVENT
DTSTART;VALUE=DATE:20260903
DTEND;VALUE=DATE:20260907
DTSTAMP:20260423T115637
CREATED:20251216T031650Z
LAST-MODIFIED:20251216T031650Z
UID:26732-1788393600-1788739199@area74.org
SUMMARY:International Conference of Young People in AA
DESCRIPTION:
URL:https://area74.org/event/international-conference-of-young-people-in-aa/
END:VEVENT
BEGIN:VEVENT
DTSTART;VALUE=DATE:20261016
DTEND;VALUE=DATE:20261017
DTSTAMP:20260423T115637
CREATED:20251017T015147Z
LAST-MODIFIED:20251017T015147Z
UID:26715-1792108800-1792195199@area74.org
SUMMARY:Area 74 Standing Committees Workshop
DESCRIPTION:
URL:https://area74.org/event/area-74-standing-committees-workshop/
LOCATION:rhinelander\, Quality Inn\, Rhinelander\, WI\, United States
END:VEVENT
BEGIN:VEVENT
DTSTART;VALUE=DATE:20261017
DTEND;VALUE=DATE:20261018
DTSTAMP:20260423T115637
CREATED:20251017T015220Z
LAST-MODIFIED:20251017T015220Z
UID:26717-1792195200-1792281599@area74.org
SUMMARY:Area 74 Assembly
DESCRIPTION:
URL:https://area74.org/event/area-74-assembly-4/
LOCATION:rhinelander\, Quality Inn\, Rhinelander\, WI\, United States
END:VEVENT
END:VCALENDAR