BEGIN:VCALENDAR
VERSION:2.0
PRODID:-//Area 74 - ECPv6.15.20//NONSGML v1.0//EN
CALSCALE:GREGORIAN
METHOD:PUBLISH
X-ORIGINAL-URL:https://area74.org
X-WR-CALDESC:Events for Area 74
REFRESH-INTERVAL;VALUE=DURATION:PT1H
X-Robots-Tag:noindex
X-PUBLISHED-TTL:PT1H
BEGIN:VTIMEZONE
TZID:UTC
BEGIN:STANDARD
TZOFFSETFROM:+0000
TZOFFSETTO:+0000
TZNAME:UTC
DTSTART:20250101T000000
END:STANDARD
END:VTIMEZONE
BEGIN:VEVENT
DTSTART;VALUE=DATE:20260328
DTEND;VALUE=DATE:20260329
DTSTAMP:20260423T085415
CREATED:20251017T014848Z
LAST-MODIFIED:20260308T201222Z
UID:26705-1774656000-1774742399@area74.org
SUMMARY:Area 74 Delegates Workshop
DESCRIPTION:flyer Delegatesworkshop 2026Workshop
URL:https://area74.org/event/area-74-delegates-workshop/
LOCATION:Reiter Center\, 1858 S Michigan\, Three Lakes\, WI\, 54562\, United States
END:VEVENT
END:VCALENDAR