BEGIN:VCALENDAR
VERSION:2.0
PRODID:-//Area 74 - ECPv6.15.20//NONSGML v1.0//EN
CALSCALE:GREGORIAN
METHOD:PUBLISH
X-WR-CALNAME:Area 74
X-ORIGINAL-URL:https://area74.org
X-WR-CALDESC:Events for Area 74
REFRESH-INTERVAL;VALUE=DURATION:PT1H
X-Robots-Tag:noindex
X-PUBLISHED-TTL:PT1H
BEGIN:VTIMEZONE
TZID:UTC
BEGIN:STANDARD
TZOFFSETFROM:+0000
TZOFFSETTO:+0000
TZNAME:UTC
DTSTART:20240101T000000
END:STANDARD
END:VTIMEZONE
BEGIN:VEVENT
DTSTART;VALUE=DATE:20250822
DTEND;VALUE=DATE:20250825
DTSTAMP:20260423T181124
CREATED:20241214T210004Z
LAST-MODIFIED:20250713T120541Z
UID:18781-1755820800-1756079999@area74.org
SUMMARY:East Central Regional Forum
DESCRIPTION:EN_2025_ECenRF-Flyer
URL:https://area74.org/event/east-central-regional-conference-2/
LOCATION:Indianapolis\, IN\, Indianapolis\, IN\, United States
END:VEVENT
END:VCALENDAR