BEGIN:VCALENDAR
VERSION:2.0
PRODID:-//Area 74 - ECPv6.15.20//NONSGML v1.0//EN
CALSCALE:GREGORIAN
METHOD:PUBLISH
X-ORIGINAL-URL:https://area74.org
X-WR-CALDESC:Events for Area 74
REFRESH-INTERVAL;VALUE=DURATION:PT1H
X-Robots-Tag:noindex
X-PUBLISHED-TTL:PT1H
BEGIN:VTIMEZONE
TZID:UTC
BEGIN:STANDARD
TZOFFSETFROM:+0000
TZOFFSETTO:+0000
TZNAME:UTC
DTSTART:20240101T000000
END:STANDARD
END:VTIMEZONE
BEGIN:VEVENT
DTSTART;VALUE=DATE:20250712
DTEND;VALUE=DATE:20250713
DTSTAMP:20260423T191733
CREATED:20241214T205855Z
LAST-MODIFIED:20241214T205855Z
UID:18779-1752278400-1752364799@area74.org
SUMMARY:Area Committee Meeting
DESCRIPTION:
URL:https://area74.org/event/area-committee-meeting-6/
LOCATION:Reiter Center\, 1858 S Michigan\, Three Lakes\, WI\, 54562\, United States
END:VEVENT
END:VCALENDAR