BEGIN:VCALENDAR
VERSION:2.0
PRODID:-//Area 74 - ECPv6.15.20//NONSGML v1.0//EN
CALSCALE:GREGORIAN
METHOD:PUBLISH
X-WR-CALNAME:Area 74
X-ORIGINAL-URL:https://area74.org
X-WR-CALDESC:Events for Area 74
REFRESH-INTERVAL;VALUE=DURATION:PT1H
X-Robots-Tag:noindex
X-PUBLISHED-TTL:PT1H
BEGIN:VTIMEZONE
TZID:UTC
BEGIN:STANDARD
TZOFFSETFROM:+0000
TZOFFSETTO:+0000
TZNAME:UTC
DTSTART:20240101T000000
END:STANDARD
END:VTIMEZONE
BEGIN:VEVENT
DTSTART;VALUE=DATE:20250703
DTEND;VALUE=DATE:20250707
DTSTAMP:20260423T191544
CREATED:20241214T205736Z
LAST-MODIFIED:20241214T205736Z
UID:18776-1751500800-1751846399@area74.org
SUMMARY:AA International Convention
DESCRIPTION:
URL:https://area74.org/event/aa-international-convention/
LOCATION:Vancouver\, Britich Columbia\, Vancouver\, Canada
END:VEVENT
BEGIN:VEVENT
DTSTART;VALUE=DATE:20250705
DTEND;VALUE=DATE:20250706
DTSTAMP:20260423T191544
CREATED:20250524T031120Z
LAST-MODIFIED:20250524T031120Z
UID:22990-1751673600-1751759999@area74.org
SUMMARY:Madison AA Speaker Meeting
DESCRIPTION:Speaker Meeting July 5 PDF
URL:https://area74.org/event/madison-aa-speaker-meeting/
END:VEVENT
END:VCALENDAR