BEGIN:VCALENDAR
VERSION:2.0
PRODID:-//Area 74 - ECPv6.15.20//NONSGML v1.0//EN
CALSCALE:GREGORIAN
METHOD:PUBLISH
X-WR-CALNAME:Area 74
X-ORIGINAL-URL:https://area74.org
X-WR-CALDESC:Events for Area 74
REFRESH-INTERVAL;VALUE=DURATION:PT1H
X-Robots-Tag:noindex
X-PUBLISHED-TTL:PT1H
BEGIN:VTIMEZONE
TZID:UTC
BEGIN:STANDARD
TZOFFSETFROM:+0000
TZOFFSETTO:+0000
TZNAME:UTC
DTSTART:20240101T000000
END:STANDARD
END:VTIMEZONE
BEGIN:VEVENT
DTSTART;VALUE=DATE:20250620
DTEND;VALUE=DATE:20250623
DTSTAMP:20260423T201944
CREATED:20241213T031316Z
LAST-MODIFIED:20241213T031316Z
UID:18754-1750377600-1750636799@area74.org
SUMMARY:4th and 5th Step Retreat
DESCRIPTION:Spring 2025 AA Only Registration Form 12-10-24
URL:https://area74.org/event/4th-and-5th-step-retreat/
END:VEVENT
BEGIN:VEVENT
DTSTART;VALUE=DATE:20250621
DTEND;VALUE=DATE:20250622
DTSTAMP:20260423T201944
CREATED:20250614T194720Z
LAST-MODIFIED:20250614T194720Z
UID:23845-1750464000-1750550399@area74.org
SUMMARY:Jamboree Step Study
DESCRIPTION:
URL:https://area74.org/event/jamboree-step-study/
END:VEVENT
END:VCALENDAR