BEGIN:VCALENDAR
VERSION:2.0
PRODID:-//Area 74 - ECPv6.15.20//NONSGML v1.0//EN
CALSCALE:GREGORIAN
METHOD:PUBLISH
X-ORIGINAL-URL:https://area74.org
X-WR-CALDESC:Events for Area 74
REFRESH-INTERVAL;VALUE=DURATION:PT1H
X-Robots-Tag:noindex
X-PUBLISHED-TTL:PT1H
BEGIN:VTIMEZONE
TZID:UTC
BEGIN:STANDARD
TZOFFSETFROM:+0000
TZOFFSETTO:+0000
TZNAME:UTC
DTSTART:20240101T000000
END:STANDARD
END:VTIMEZONE
BEGIN:VEVENT
DTSTART;VALUE=DATE:20250516
DTEND;VALUE=DATE:20250519
DTSTAMP:20260423T212626
CREATED:20241214T205627Z
LAST-MODIFIED:20250514T012917Z
UID:18773-1747353600-1747612799@area74.org
SUMMARY:Area 74 Spring Conference
DESCRIPTION:Registration Form\nSpring Conference Program Print Version
URL:https://area74.org/event/area-74-spring-conference-2/
LOCATION:Sturgeon Bay\, WI\, Sturgeon Bay\, WI\, United States
END:VEVENT
END:VCALENDAR