BEGIN:VCALENDAR
VERSION:2.0
PRODID:-//Area 74 - ECPv6.15.20//NONSGML v1.0//EN
CALSCALE:GREGORIAN
METHOD:PUBLISH
X-WR-CALNAME:Area 74
X-ORIGINAL-URL:https://area74.org
X-WR-CALDESC:Events for Area 74
REFRESH-INTERVAL;VALUE=DURATION:PT1H
X-Robots-Tag:noindex
X-PUBLISHED-TTL:PT1H
BEGIN:VTIMEZONE
TZID:UTC
BEGIN:STANDARD
TZOFFSETFROM:+0000
TZOFFSETTO:+0000
TZNAME:UTC
DTSTART:20240101T000000
END:STANDARD
END:VTIMEZONE
BEGIN:VEVENT
DTSTART;VALUE=DATE:20250425
DTEND;VALUE=DATE:20250428
DTSTAMP:20260423T224051
CREATED:20250406T022917Z
LAST-MODIFIED:20250406T022917Z
UID:21593-1745539200-1745798399@area74.org
SUMMARY:78th Superior Roundup
DESCRIPTION:
URL:https://area74.org/event/78th-superior-roundup/
END:VEVENT
BEGIN:VEVENT
DTSTART;VALUE=DATE:20250426
DTEND;VALUE=DATE:20250427
DTSTAMP:20260423T224051
CREATED:20250210T023722Z
LAST-MODIFIED:20250210T023722Z
UID:20954-1745625600-1745711999@area74.org
SUMMARY:Eau Claire Service and Structure Workshop
DESCRIPTION:
URL:https://area74.org/event/eau-claire-service-and-structure-workshop/
END:VEVENT
BEGIN:VEVENT
DTSTART;VALUE=DATE:20250426
DTEND;VALUE=DATE:20250427
DTSTAMP:20260423T224051
CREATED:20250316T131043Z
LAST-MODIFIED:20250316T131043Z
UID:21323-1745625600-1745711999@area74.org
SUMMARY:District 4 - 12 Traditions Workshop
DESCRIPTION:12 TRADITIONS WORKSHOP 04.2025 (7)
URL:https://area74.org/event/district-4-12-traditions-workshop/
END:VEVENT
END:VCALENDAR