BEGIN:VCALENDAR
VERSION:2.0
PRODID:-//Area 74 - ECPv6.15.20//NONSGML v1.0//EN
CALSCALE:GREGORIAN
METHOD:PUBLISH
X-ORIGINAL-URL:https://area74.org
X-WR-CALDESC:Events for Area 74
REFRESH-INTERVAL;VALUE=DURATION:PT1H
X-Robots-Tag:noindex
X-PUBLISHED-TTL:PT1H
BEGIN:VTIMEZONE
TZID:UTC
BEGIN:STANDARD
TZOFFSETFROM:+0000
TZOFFSETTO:+0000
TZNAME:UTC
DTSTART:20230101T000000
END:STANDARD
END:VTIMEZONE
BEGIN:VEVENT
DTSTART;VALUE=DATE:20240913
DTEND;VALUE=DATE:20240916
DTSTAMP:20260424T081636
CREATED:20231210T012106Z
LAST-MODIFIED:20240819T012442Z
UID:8353-1726185600-1726444799@area74.org
SUMMARY:Area 74 Fall Conference\, District 4\, Holiday Inn\, Stevens Point\, WI
DESCRIPTION:https://www.aawidistrict04.org/event/area-74-2024-fall-conference/
URL:https://area74.org/event/area-74-fall-conference-district-4-holiday-inn-stevens-point-wi/
END:VEVENT
BEGIN:VEVENT
DTSTART;VALUE=DATE:20240914
DTEND;VALUE=DATE:20240915
DTSTAMP:20260424T081636
CREATED:20231210T012137Z
LAST-MODIFIED:20231210T012137Z
UID:8355-1726272000-1726358399@area74.org
SUMMARY:Area Assembly - Holiday Inn\, Stevens Point\, WI
DESCRIPTION:
URL:https://area74.org/event/area-assembly-holiday-inn-stevens-point-wi/
END:VEVENT
END:VCALENDAR