BEGIN:VCALENDAR
VERSION:2.0
PRODID:-//Area 74 - ECPv6.15.20//NONSGML v1.0//EN
CALSCALE:GREGORIAN
METHOD:PUBLISH
X-WR-CALNAME:Area 74
X-ORIGINAL-URL:https://area74.org
X-WR-CALDESC:Events for Area 74
REFRESH-INTERVAL;VALUE=DURATION:PT1H
X-Robots-Tag:noindex
X-PUBLISHED-TTL:PT1H
BEGIN:VTIMEZONE
TZID:UTC
BEGIN:STANDARD
TZOFFSETFROM:+0000
TZOFFSETTO:+0000
TZNAME:UTC
DTSTART:20230101T000000
END:STANDARD
END:VTIMEZONE
BEGIN:VEVENT
DTSTART;VALUE=DATE:20240803
DTEND;VALUE=DATE:20240804
DTSTAMP:20260424T094354
CREATED:20231210T012034Z
LAST-MODIFIED:20231210T012034Z
UID:8351-1722643200-1722729599@area74.org
SUMMARY:Area Committee Meeting (OPTIONAL) Virtual
DESCRIPTION:
URL:https://area74.org/event/area-committee-meeting-optional-virtual/
END:VEVENT
BEGIN:VEVENT
DTSTART;VALUE=DATE:20240803
DTEND;VALUE=DATE:20240804
DTSTAMP:20260424T094354
CREATED:20240608T014754Z
LAST-MODIFIED:20240608T014754Z
UID:14877-1722643200-1722729599@area74.org
SUMMARY:AA Service Workshop
DESCRIPTION:Updated flyer
URL:https://area74.org/event/aa-service-workshop/
END:VEVENT
END:VCALENDAR