BEGIN:VCALENDAR
VERSION:2.0
PRODID:-//Area 74 - ECPv6.15.20//NONSGML v1.0//EN
CALSCALE:GREGORIAN
METHOD:PUBLISH
X-WR-CALNAME:Area 74
X-ORIGINAL-URL:https://area74.org
X-WR-CALDESC:Events for Area 74
REFRESH-INTERVAL;VALUE=DURATION:PT1H
X-Robots-Tag:noindex
X-PUBLISHED-TTL:PT1H
BEGIN:VTIMEZONE
TZID:UTC
BEGIN:STANDARD
TZOFFSETFROM:+0000
TZOFFSETTO:+0000
TZNAME:UTC
DTSTART:20230101T000000
END:STANDARD
END:VTIMEZONE
BEGIN:VEVENT
DTSTART;VALUE=DATE:20240414
DTEND;VALUE=DATE:20240421
DTSTAMP:20260424T160429
CREATED:20231210T011643Z
LAST-MODIFIED:20231210T011643Z
UID:8343-1713052800-1713657599@area74.org
SUMMARY:73rd General Service Conference\, Brooklyn\, NY
DESCRIPTION:
URL:https://area74.org/event/73rd-general-service-conference-brooklyn-ny/
END:VEVENT
END:VCALENDAR